Workbook

Sheet Tracker
A1: Skin Trading Tracker
A2: How to use: 1) Type the skin name, what you paid, and where you sell it. Dealing with a person? Type their name in Person and pick Direct (person). 2) When you sell it, type the sell date and the price you sold it for. Everything else fills in by itself. 3) Swapped a skin for another skin? Use the Swaps sheet.
A4: Total profit | B4: Skins sold | C4: Win rate | D4: Return on money spent | E4: Skins holding | F4: Money tied up | G4: Profit from swaps
A5: =SUM($J$9:$J$208) -> 2.025 | B5: =COUNT($J$9:$J$208) -> 2 | C5: =IF(B5=0,0,COUNTIF($J$9:$J$208,">0")/B5) -> 0.5 | D5: =IF(SUMIFS($E$9:$E$208,$H$9:$H$208,"Sold")=0,0,A5/SUMIFS($E$9:$E$208,$H$9:$H$208,"Sold")) -> 0.1125 | E5: =COUNTIF($H$9:$H$208,"Holding") -> 1 | F5: =SUMIFS($E$9:$E$208,$H$9:$H$208,"Holding") -> 8 | G5: =SUM(Swaps!$G$5:$G$104) -> 6
A6: 'Sell for at least' shows the price you need to get back what you paid after the site's fee, for skins you still hold.
A7: YOUR TRADES (yellow = you type, grey = automatic)
A8: Skin name | B8: Person (if any) | C8: Site you sell on | D8: Buy date | E8: You paid ($) | F8: Sell date | G8: You sold for ($) | H8: Status | I8: Fee ($) | J8: Profit ($) | K8: Profit % | L8: Days | M8: Sell for at least ($) | N8: Result
A9: AK-47 skin (example) | B9: Ali | C9: Direct (person) | D9: 46307 | E9: 12 | F9: 46314 | G9: 14.5 | H9: =IF(E9="","",IF(G9<>"","Sold","Holding")) -> Sold | I9: =IF(OR(E9="",G9=""),"",G9*IFERROR(INDEX('Site Fees'!$B$4:$B$13,MATCH(C9,'Site Fees'!$A$4:$A$13,0)),0)) -> 0 | J9: =IF(OR(E9="",G9=""),"",G9-I9-E9) -> 2.5 | K9: =IF(J9="","",IF(E9=0,"",J9/E9)) -> 0.20833333 | L9: =IF(OR(D9="",E9=""),"",IF(G9<>"",IF(F9="","",F9-D9),TODAY()-D9)) -> 7 | M9: =IF(OR(E9="",G9<>""),"",IFERROR(E9/(1-IFERROR(INDEX('Site Fees'!$B$4:$B$13,MATCH(C9,'Site Fees'!$A$4:$A$13,0)),0)),"")) | N9: =IF(J9="","",IF(J9>0,"Win",IF(J9<0,"Loss","Even"))) -> Win
A10: AWP skin (example) | C10: Skinport | D10: 46312 | E10: 8 | H10: =IF(E10="","",IF(G10<>"","Sold","Holding")) -> Holding | I10: =IF(OR(E10="",G10=""),"",G10*IFERROR(INDEX('Site Fees'!$B$4:$B$13,MATCH(C10,'Site Fees'!$A$4:$A$13,0)),0)) | J10: =IF(OR(E10="",G10=""),"",G10-I10-E10) | K10: =IF(J10="","",IF(E10=0,"",J10/E10)) | L10: =IF(OR(D10="",E10=""),"",IF(G10<>"",IF(F10="","",F10-D10),TODAY()-D10)) -> 2 | M10: =IF(OR(E10="",G10<>""),"",IFERROR(E10/(1-IFERROR(INDEX('Site Fees'!$B$4:$B$13,MATCH(C10,'Site Fees'!$A$4:$A$13,0)),0)),"")) -> 9.0909091 | N10: =IF(J10="","",IF(J10>0,"Win",IF(J10<0,"Loss","Even")))
A11: Sticker (example) | C11: Steam Market | D11: 46296 | E11: 6 | F11: 46310 | G11: 6.5 | H11: =IF(E11="","",IF(G11<>"","Sold","Holding")) -> Sold | I11: =IF(OR(E11="",G11=""),"",G11*IFERROR(INDEX('Site Fees'!$B$4:$B$13,MATCH(C11,'Site Fees'!$A$4:$A$13,0)),0)) -> 0.975 | J11: =IF(OR(E11="",G11=""),"",G11-I11-E11) -> -0.475 | K11: =IF(J11="","",IF(E11=0,"",J11/E11)) -> -0.079166667 | L11: =IF(OR(D11="",E11=""),"",IF(G11<>"",IF(F11="","",F11-D11),TODAY()-D11)) -> 14 | M11: =IF(OR(E11="",G11<>""),"",IFERROR(E11/(1-IFERROR(INDEX('Site Fees'!$B$4:$B$13,MATCH(C11,'Site Fees'!$A$4:$A$13,0)),0)),"")) | N11: =IF(J11="","",IF(J11>0,"Win",IF(J11<0,"Loss","Even"))) -> Loss
H12: =IF(E12="","",IF(G12<>"","Sold","Holding")) | I12: =IF(OR(E12="",G12=""),"",G12*IFERROR(INDEX('Site Fees'!$B$4:$B$13,MATCH(C12,'Site Fees'!$A$4:$A$13,0)),0)) | J12: =IF(OR(E12="",G12=""),"",G12-I12-E12) | K12: =IF(J12="","",IF(E12=0,"",J12/E12)) | L12: =IF(OR(D12="",E12=""),"",IF(G12<>"",IF(F12="","",F12-D12),TODAY()-D12)) | M12: =IF(OR(E12="",G12<>""),"",IFERROR(E12/(1-IFERROR(INDEX('Site Fees'!$B$4:$B$13,MATCH(C12,'Site Fees'!$A$4:$A$13,0)),0)),"")) | N12: =IF(J12="","",IF(J12>0,"Win",IF(J12<0,"Loss","Even")))
H13: =IF(E13="","",IF(G13<>"","Sold","Holding")) | I13: =IF(OR(E13="",G13=""),"",G13*IFERROR(INDEX('Site Fees'!$B$4:$B$13,MATCH(C13,'Site Fees'!$A$4:$A$13,0)),0)) | J13: =IF(OR(E13="",G13=""),"",G13-I13-E13) | K13: =IF(J13="","",IF(E13=0,"",J13/E13)) | L13: =IF(OR(D13="",E13=""),"",IF(G13<>"",IF(F13="","",F13-D13),TODAY()-D13)) | M13: =IF(OR(E13="",G13<>""),"",IFERROR(E13/(1-IFERROR(INDEX('Site Fees'!$B$4:$B$13,MATCH(C13,'Site Fees'!$A$4:$A$13,0)),0)),"")) | N13: =IF(J13="","",IF(J13>0,"Win",IF(J13<0,"Loss","Even")))
H14: =IF(E14="","",IF(G14<>"","Sold","Holding")) | I14: =IF(OR(E14="",G14=""),"",G14*IFERROR(INDEX('Site Fees'!$B$4:$B$13,MATCH(C14,'Site Fees'!$A$4:$A$13,0)),0)) | J14: =IF(OR(E14="",G14=""),"",G14-I14-E14) | K14: =IF(J14="","",IF(E14=0,"",J14/E14)) | L14: =IF(OR(D14="",E14=""),"",IF(G14<>"",IF(F14="","",F14-D14),TODAY()-D14)) | M14: =IF(OR(E14="",G14<>""),"",IFERROR(E14/(1-IFERROR(INDEX('Site Fees'!$B$4:$B$13,MATCH(C14,'Site Fees'!$A$4:$A$13,0)),0)),"")) | N14: =IF(J14="","",IF(J14>0,"Win",IF(J14<0,"Loss","Even")))
H15: =IF(E15="","",IF(G15<>"","Sold","Holding")) | I15: =IF(OR(E15="",G15=""),"",G15*IFERROR(INDEX('Site Fees'!$B$4:$B$13,MATCH(C15,'Site Fees'!$A$4:$A$13,0)),0)) | J15: =IF(OR(E15="",G15=""),"",G15-I15-E15) | K15: =IF(J15="","",IF(E15=0,"",J15/E15)) | L15: =IF(OR(D15="",E15=""),"",IF(G15<>"",IF(F15="","",F15-D15),TODAY()-D15)) | M15: =IF(OR(E15="",G15<>""),"",IFERROR(E15/(1-IFERROR(INDEX('Site Fees'!$B$4:$B$13,MATCH(C15,'Site Fees'!$A$4:$A$13,0)),0)),"")) | N15: =IF(J15="","",IF(J15>0,"Win",IF(J15<0,"Loss","Even")))
H16: =IF(E16="","",IF(G16<>"","Sold","Holding")) | I16: =IF(OR(E16="",G16=""),"",G16*IFERROR(INDEX('Site Fees'!$B$4:$B$13,MATCH(C16,'Site Fees'!$A$4:$A$13,0)),0)) | J16: =IF(OR(E16="",G16=""),"",G16-I16-E16) | K16: =IF(J16="","",IF(E16=0,"",J16/E16)) | L16: =IF(OR(D16="",E16=""),"",IF(G16<>"",IF(F16="","",F16-D16),TODAY()-D16)) | M16: =IF(OR(E16="",G16<>""),"",IFERROR(E16/(1-IFERROR(INDEX('Site Fees'!$B$4:$B$13,MATCH(C16,'Site Fees'!$A$4:$A$13,0)),0)),"")) | N16: =IF(J16="","",IF(J16>0,"Win",IF(J16<0,"Loss","Even")))
H17: =IF(E17="","",IF(G17<>"","Sold","Holding")) | I17: =IF(OR(E17="",G17=""),"",G17*IFERROR(INDEX('Site Fees'!$B$4:$B$13,MATCH(C17,'Site Fees'!$A$4:$A$13,0)),0)) | J17: =IF(OR(E17="",G17=""),"",G17-I17-E17) | K17: =IF(J17="","",IF(E17=0,"",J17/E17)) | L17: =IF(OR(D17="",E17=""),"",IF(G17<>"",IF(F17="","",F17-D17),TODAY()-D17)) | M17: =IF(OR(E17="",G17<>""),"",IFERROR(E17/(1-IFERROR(INDEX('Site Fees'!$B$4:$B$13,MATCH(C17,'Site Fees'!$A$4:$A$13,0)),0)),"")) | N17: =IF(J17="","",IF(J17>0,"Win",IF(J17<0,"Loss","Even")))
H18: =IF(E18="","",IF(G18<>"","Sold","Holding")) | I18: =IF(OR(E18="",G18=""),"",G18*IFERROR(INDEX('Site Fees'!$B$4:$B$13,MATCH(C18,'Site Fees'!$A$4:$A$13,0)),0)) | J18: =IF(OR(E18="",G18=""),"",G18-I18-E18) | K18: =IF(J18="","",IF(E18=0,"",J18/E18)) | L18: =IF(OR(D18="",E18=""),"",IF(G18<>"",IF(F18="","",F18-D18),TODAY()-D18)) | M18: =IF(OR(E18="",G18<>""),"",IFERROR(E18/(1-IFERROR(INDEX('Site Fees'!$B$4:$B$13,MATCH(C18,'Site Fees'!$A$4:$A$13,0)),0)),"")) | N18: =IF(J18="","",IF(J18>0,"Win",IF(J18<0,"Loss","Even")))
H19: =IF(E19="","",IF(G19<>"","Sold","Holding")) | I19: =IF(OR(E19="",G19=""),"",G19*IFERROR(INDEX('Site Fees'!$B$4:$B$13,MATCH(C19,'Site Fees'!$A$4:$A$13,0)),0)) | J19: =IF(OR(E19="",G19=""),"",G19-I19-E19) | K19: =IF(J19="","",IF(E19=0,"",J19/E19)) | L19: =IF(OR(D19="",E19=""),"",IF(G19<>"",IF(F19="","",F19-D19),TODAY()-D19)) | M19: =IF(OR(E19="",G19<>""),"",IFERROR(E19/(1-IFERROR(INDEX('Site Fees'!$B$4:$B$13,MATCH(C19,'Site Fees'!$A$4:$A$13,0)),0)),"")) | N19: =IF(J19="","",IF(J19>0,"Win",IF(J19<0,"Loss","Even")))
H20: =IF(E20="","",IF(G20<>"","Sold","Holding")) | I20: =IF(OR(E20="",G20=""),"",G20*IFERROR(INDEX('Site Fees'!$B$4:$B$13,MATCH(C20,'Site Fees'!$A$4:$A$13,0)),0)) | J20: =IF(OR(E20="",G20=""),"",G20-I20-E20) | K20: =IF(J20="","",IF(E20=0,"",J20/E20)) | L20: =IF(OR(D20="",E20=""),"",IF(G20<>"",IF(F20="","",F20-D20),TODAY()-D20)) | M20: =IF(OR(E20="",G20<>""),"",IFERROR(E20/(1-IFERROR(INDEX('Site Fees'!$B$4:$B$13,MATCH(C20,'Site Fees'!$A$4:$A$13,0)),0)),"")) | N20: =IF(J20="","",IF(J20>0,"Win",IF(J20<0,"Loss","Even")))
H21: =IF(E21="","",IF(G21<>"","Sold","Holding")) | I21: =IF(OR(E21="",G21=""),"",G21*IFERROR(INDEX('Site Fees'!$B$4:$B$13,MATCH(C21,'Site Fees'!$A$4:$A$13,0)),0)) | J21: =IF(OR(E21="",G21=""),"",G21-I21-E21) | K21: =IF(J21="","",IF(E21=0,"",J21/E21)) | L21: =IF(OR(D21="",E21=""),"",IF(G21<>"",IF(F21="","",F21-D21),TODAY()-D21)) | M21: =IF(OR(E21="",G21<>""),"",IFERROR(E21/(1-IFERROR(INDEX('Site Fees'!$B$4:$B$13,MATCH(C21,'Site Fees'!$A$4:$A$13,0)),0)),"")) | N21: =IF(J21="","",IF(J21>0,"Win",IF(J21<0,"Loss","Even")))
H22: =IF(E22="","",IF(G22<>"","Sold","Holding")) | I22: =IF(OR(E22="",G22=""),"",G22*IFERROR(INDEX('Site Fees'!$B$4:$B$13,MATCH(C22,'Site Fees'!$A$4:$A$13,0)),0)) | J22: =IF(OR(E22="",G22=""),"",G22-I22-E22) | K22: =IF(J22="","",IF(E22=0,"",J22/E22)) | L22: =IF(OR(D22="",E22=""),"",IF(G22<>"",IF(F22="","",F22-D22),TODAY()-D22)) | M22: =IF(OR(E22="",G22<>""),"",IFERROR(E22/(1-IFERROR(INDEX('Site Fees'!$B$4:$B$13,MATCH(C22,'Site Fees'!$A$4:$A$13,0)),0)),"")) | N22: =IF(J22="","",IF(J22>0,"Win",IF(J22<0,"Loss","Even")))
H23: =IF(E23="","",IF(G23<>"","Sold","Holding")) | I23: =IF(OR(E23="",G23=""),"",G23*IFERROR(INDEX('Site Fees'!$B$4:$B$13,MATCH(C23,'Site Fees'!$A$4:$A$13,0)),0)) | J23: =IF(OR(E23="",G23=""),"",G23-I23-E23) | K23: =IF(J23="","",IF(E23=0,"",J23/E23)) | L23: =IF(OR(D23="",E23=""),"",IF(G23<>"",IF(F23="","",F23-D23),TODAY()-D23)) | M23: =IF(OR(E23="",G23<>""),"",IFERROR(E23/(1-IFERROR(INDEX('Site Fees'!$B$4:$B$13,MATCH(C23,'Site Fees'!$A$4:$A$13,0)),0)),"")) | N23: =IF(J23="","",IF(J23>0,"Win",IF(J23<0,"Loss","Even")))
... H208: =IF(E208="","",IF(G208<>"","Sold","Holding")) | I208: =IF(OR(E208="",G208=""),"",G208*IFERROR(INDEX('Site Fees'!$B$4:$B$13,MATCH(C208,'Site Fees'!$A$4:$A$13,0)),0)) | J208: =IF(OR(E208="",G208=""),"",G208-I208-E208) | K208: =IF(J208="","",IF(E208=0,"",J208/E208)) | L208: =IF(OR(D208="",E208=""),"",IF(G208<>"",IF(F208="","",F208-D208),TODAY()-D208)) | M208: =IF(OR(E208="",G208<>""),"",IFERROR(E208/(1-IFERROR(INDEX('Site Fees'!$B$4:$B$13,MATCH(C208,'Site Fees'!$A$4:$A$13,0)),0)),"")) | N208: =IF(J208="","",IF(J208>0,"Win",IF(J208<0,"Loss","Even")))

Sheet Monthly
A1: Profit by month
A2: First month to show: | B2: 46296 | C2: Change this to the month you started. The next 11 months follow it.
A4: Month | B4: Skins sold | C4: Profit ($)
A5: =$B$2 -> 46296 | B5: =COUNTIFS(Tracker!$H$9:$H$208,"Sold",Tracker!$F$9:$F$208,">="&A5,Tracker!$F$9:$F$208,"<"&EDATE(A5,1)) -> 2 | C5: =SUMIFS(Tracker!$J$9:$J$208,Tracker!$F$9:$F$208,">="&A5,Tracker!$F$9:$F$208,"<"&EDATE(A5,1)) -> 2.025
A6: =EDATE(A5,1) -> 46327 | B6: =COUNTIFS(Tracker!$H$9:$H$208,"Sold",Tracker!$F$9:$F$208,">="&A6,Tracker!$F$9:$F$208,"<"&EDATE(A6,1)) -> 0 | C6: =SUMIFS(Tracker!$J$9:$J$208,Tracker!$F$9:$F$208,">="&A6,Tracker!$F$9:$F$208,"<"&EDATE(A6,1)) -> 0
A7: =EDATE(A6,1) -> 46357 | B7: =COUNTIFS(Tracker!$H$9:$H$208,"Sold",Tracker!$F$9:$F$208,">="&A7,Tracker!$F$9:$F$208,"<"&EDATE(A7,1)) -> 0 | C7: =SUMIFS(Tracker!$J$9:$J$208,Tracker!$F$9:$F$208,">="&A7,Tracker!$F$9:$F$208,"<"&EDATE(A7,1)) -> 0
A8: =EDATE(A7,1) -> 46388 | B8: =COUNTIFS(Tracker!$H$9:$H$208,"Sold",Tracker!$F$9:$F$208,">="&A8,Tracker!$F$9:$F$208,"<"&EDATE(A8,1)) -> 0 | C8: =SUMIFS(Tracker!$J$9:$J$208,Tracker!$F$9:$F$208,">="&A8,Tracker!$F$9:$F$208,"<"&EDATE(A8,1)) -> 0
A9: =EDATE(A8,1) -> 46419 | B9: =COUNTIFS(Tracker!$H$9:$H$208,"Sold",Tracker!$F$9:$F$208,">="&A9,Tracker!$F$9:$F$208,"<"&EDATE(A9,1)) -> 0 | C9: =SUMIFS(Tracker!$J$9:$J$208,Tracker!$F$9:$F$208,">="&A9,Tracker!$F$9:$F$208,"<"&EDATE(A9,1)) -> 0
A10: =EDATE(A9,1) -> 46447 | B10: =COUNTIFS(Tracker!$H$9:$H$208,"Sold",Tracker!$F$9:$F$208,">="&A10,Tracker!$F$9:$F$208,"<"&EDATE(A10,1)) -> 0 | C10: =SUMIFS(Tracker!$J$9:$J$208,Tracker!$F$9:$F$208,">="&A10,Tracker!$F$9:$F$208,"<"&EDATE(A10,1)) -> 0
A11: =EDATE(A10,1) -> 46478 | B11: =COUNTIFS(Tracker!$H$9:$H$208,"Sold",Tracker!$F$9:$F$208,">="&A11,Tracker!$F$9:$F$208,"<"&EDATE(A11,1)) -> 0 | C11: =SUMIFS(Tracker!$J$9:$J$208,Tracker!$F$9:$F$208,">="&A11,Tracker!$F$9:$F$208,"<"&EDATE(A11,1)) -> 0
A12: =EDATE(A11,1) -> 46508 | B12: =COUNTIFS(Tracker!$H$9:$H$208,"Sold",Tracker!$F$9:$F$208,">="&A12,Tracker!$F$9:$F$208,"<"&EDATE(A12,1)) -> 0 | C12: =SUMIFS(Tracker!$J$9:$J$208,Tracker!$F$9:$F$208,">="&A12,Tracker!$F$9:$F$208,"<"&EDATE(A12,1)) -> 0
A13: =EDATE(A12,1) -> 46539 | B13: =COUNTIFS(Tracker!$H$9:$H$208,"Sold",Tracker!$F$9:$F$208,">="&A13,Tracker!$F$9:$F$208,"<"&EDATE(A13,1)) -> 0 | C13: =SUMIFS(Tracker!$J$9:$J$208,Tracker!$F$9:$F$208,">="&A13,Tracker!$F$9:$F$208,"<"&EDATE(A13,1)) -> 0
A14: =EDATE(A13,1) -> 46569 | B14: =COUNTIFS(Tracker!$H$9:$H$208,"Sold",Tracker!$F$9:$F$208,">="&A14,Tracker!$F$9:$F$208,"<"&EDATE(A14,1)) -> 0 | C14: =SUMIFS(Tracker!$J$9:$J$208,Tracker!$F$9:$F$208,">="&A14,Tracker!$F$9:$F$208,"<"&EDATE(A14,1)) -> 0
A15: =EDATE(A14,1) -> 46600 | B15: =COUNTIFS(Tracker!$H$9:$H$208,"Sold",Tracker!$F$9:$F$208,">="&A15,Tracker!$F$9:$F$208,"<"&EDATE(A15,1)) -> 0 | C15: =SUMIFS(Tracker!$J$9:$J$208,Tracker!$F$9:$F$208,">="&A15,Tracker!$F$9:$F$208,"<"&EDATE(A15,1)) -> 0
A16: =EDATE(A15,1) -> 46631 | B16: =COUNTIFS(Tracker!$H$9:$H$208,"Sold",Tracker!$F$9:$F$208,">="&A16,Tracker!$F$9:$F$208,"<"&EDATE(A16,1)) -> 0 | C16: =SUMIFS(Tracker!$J$9:$J$208,Tracker!$F$9:$F$208,">="&A16,Tracker!$F$9:$F$208,"<"&EDATE(A16,1)) -> 0
A18: Best month | C18: =MAX(C5:C16) -> 2.025
A19: Total (12 months) | C19: =SUM(C5:C16) -> 2.025
A21: Trades are counted in the month of their sell date. Swaps are not included here.

Sheet Swaps
A1: Swaps (skin for skin)
A2: For trades where no money changes hands. Type what you gave and what you got, with your best estimate of each value ($). The sheet shows if you came out ahead. Row 5 is an example - type over it.
A4: Date | B4: Person | C4: You gave | D4: Value of what you gave ($) | E4: You got | F4: Value of what you got ($) | G4: Gain ($) | H4: Result
A5: 46310 | B5: Sam | C5: Glove skin (example) | D5: 40 | E5: Knife skin (example) | F5: 46 | G5: =IF(OR(D5="",F5=""),"",F5-D5) -> 6 | H5: =IF(G5="","",IF(G5>0,"Win",IF(G5<0,"Loss","Even"))) -> Win
G6: =IF(OR(D6="",F6=""),"",F6-D6) | H6: =IF(G6="","",IF(G6>0,"Win",IF(G6<0,"Loss","Even")))
G7: =IF(OR(D7="",F7=""),"",F7-D7) | H7: =IF(G7="","",IF(G7>0,"Win",IF(G7<0,"Loss","Even")))
G8: =IF(OR(D8="",F8=""),"",F8-D8) | H8: =IF(G8="","",IF(G8>0,"Win",IF(G8<0,"Loss","Even")))
G9: =IF(OR(D9="",F9=""),"",F9-D9) | H9: =IF(G9="","",IF(G9>0,"Win",IF(G9<0,"Loss","Even")))
G10: =IF(OR(D10="",F10=""),"",F10-D10) | H10: =IF(G10="","",IF(G10>0,"Win",IF(G10<0,"Loss","Even")))
G11: =IF(OR(D11="",F11=""),"",F11-D11) | H11: =IF(G11="","",IF(G11>0,"Win",IF(G11<0,"Loss","Even")))
G12: =IF(OR(D12="",F12=""),"",F12-D12) | H12: =IF(G12="","",IF(G12>0,"Win",IF(G12<0,"Loss","Even")))
G13: =IF(OR(D13="",F13=""),"",F13-D13) | H13: =IF(G13="","",IF(G13>0,"Win",IF(G13<0,"Loss","Even")))
G14: =IF(OR(D14="",F14=""),"",F14-D14) | H14: =IF(G14="","",IF(G14>0,"Win",IF(G14<0,"Loss","Even")))
G15: =IF(OR(D15="",F15=""),"",F15-D15) | H15: =IF(G15="","",IF(G15>0,"Win",IF(G15<0,"Loss","Even")))
G16: =IF(OR(D16="",F16=""),"",F16-D16) | H16: =IF(G16="","",IF(G16>0,"Win",IF(G16<0,"Loss","Even")))
G17: =IF(OR(D17="",F17=""),"",F17-D17) | H17: =IF(G17="","",IF(G17>0,"Win",IF(G17<0,"Loss","Even")))
... G104: =IF(OR(D104="",F104=""),"",F104-D104) | H104: =IF(G104="","",IF(G104>0,"Win",IF(G104<0,"Loss","Even")))

Sheet Safe Trading Tips
A1: 3 Safe Trading Tips
A2: Read these before you trade with someone.
A4: 1. Never share your login or codes, and never log in through a link someone sends you.
A5: 2. Check the exact items and the price in the offer before you accept it.
A6: 3. Hand over the skin only after the money is really in your account.

Sheet Site Fees
A1: Site Fees
A2: The fee a site takes when you sell. These are EXAMPLE numbers - check each site's current fee and change the yellow cells. You can add your own sites in the empty rows.
A3: Site | B3: Fee when selling
A4: Steam Market | B4: 0.15
A5: Skinport | B5: 0.12
A6: DMarket | B6: 0.05
A7: CSFloat | B7: 0.02
A8: Direct (person) | B8: 0
